BEGIN:VCALENDAR
VERSION:2.0
PRODID:-//Söderköpings Ryttarsällskap - ECPv6.13.2.1//NONSGML v1.0//EN
CALSCALE:GREGORIAN
METHOD:PUBLISH
X-WR-CALNAME:Söderköpings Ryttarsällskap
X-ORIGINAL-URL:https://soderkopingsrs.se
X-WR-CALDESC:Händelser för Söderköpings Ryttarsällskap
REFRESH-INTERVAL;VALUE=DURATION:PT1H
X-Robots-Tag:noindex
X-PUBLISHED-TTL:PT1H
BEGIN:VTIMEZONE
TZID:Europe/Stockholm
BEGIN:DAYLIGHT
TZOFFSETFROM:+0100
TZOFFSETTO:+0200
TZNAME:CEST
DTSTART:20250330T010000
END:DAYLIGHT
BEGIN:STANDARD
TZOFFSETFROM:+0200
TZOFFSETTO:+0100
TZNAME:CET
DTSTART:20251026T010000
END:STANDARD
END:VTIMEZONE
BEGIN:VEVENT
DTSTART;TZID=Europe/Stockholm:20250107T093000
DTEND;TZID=Europe/Stockholm:20250107T120000
DTSTAMP:20260425T232157
CREATED:20241219T123333Z
LAST-MODIFIED:20241219T123333Z
UID:3835-1736242200-1736251200@soderkopingsrs.se
SUMMARY:Käpphästhoppning
DESCRIPTION:
URL:https://soderkopingsrs.se/event/kapphasthoppning-2/
LOCATION:Hela ridhuset
END:VEVENT
BEGIN:VEVENT
DTSTART;TZID=Europe/Stockholm:20250112T090000
DTEND;TZID=Europe/Stockholm:20250112T120000
DTSTAMP:20260425T232157
CREATED:20241217T120556Z
LAST-MODIFIED:20241218T132735Z
UID:3821-1736672400-1736683200@soderkopingsrs.se
SUMMARY:Dressyrträning
DESCRIPTION:
URL:https://soderkopingsrs.se/event/dressyrtraning-22/
LOCATION:Stora delen av ridhuset
END:VEVENT
BEGIN:VEVENT
DTSTART;TZID=Europe/Stockholm:20250119T090000
DTEND;TZID=Europe/Stockholm:20250119T120000
DTSTAMP:20260425T232157
CREATED:20241218T132658Z
LAST-MODIFIED:20241218T132658Z
UID:3833-1737277200-1737288000@soderkopingsrs.se
SUMMARY:Pay n jump
DESCRIPTION:
URL:https://soderkopingsrs.se/event/pay-n-jump-22/
LOCATION:Hela ridhuset
END:VEVENT
BEGIN:VEVENT
DTSTART;TZID=Europe/Stockholm:20250125T130000
DTEND;TZID=Europe/Stockholm:20250125T170000
DTSTAMP:20260425T232157
CREATED:20241205T113040Z
LAST-MODIFIED:20241205T113040Z
UID:3786-1737810000-1737824400@soderkopingsrs.se
SUMMARY:Hoppträning
DESCRIPTION:
URL:https://soderkopingsrs.se/event/hopptraning-29/
END:VEVENT
BEGIN:VEVENT
DTSTART;TZID=Europe/Stockholm:20250126T090000
DTEND;TZID=Europe/Stockholm:20250126T130000
DTSTAMP:20260425T232157
CREATED:20241205T113110Z
LAST-MODIFIED:20241205T113110Z
UID:3788-1737882000-1737896400@soderkopingsrs.se
SUMMARY:Hoppträning
DESCRIPTION:
URL:https://soderkopingsrs.se/event/hopptraning-30/
END:VEVENT
END:VCALENDAR