BEGIN:VCALENDAR
VERSION:2.0
PRODID:-//Söderköpings Ryttarsällskap - ECPv6.13.2.1//NONSGML v1.0//EN
CALSCALE:GREGORIAN
METHOD:PUBLISH
X-ORIGINAL-URL:https://soderkopingsrs.se
X-WR-CALDESC:Händelser för Söderköpings Ryttarsällskap
REFRESH-INTERVAL;VALUE=DURATION:PT1H
X-Robots-Tag:noindex
X-PUBLISHED-TTL:PT1H
BEGIN:VTIMEZONE
TZID:Europe/Stockholm
BEGIN:DAYLIGHT
TZOFFSETFROM:+0100
TZOFFSETTO:+0200
TZNAME:CEST
DTSTART:20250330T010000
END:DAYLIGHT
BEGIN:STANDARD
TZOFFSETFROM:+0200
TZOFFSETTO:+0100
TZNAME:CET
DTSTART:20251026T010000
END:STANDARD
END:VTIMEZONE
BEGIN:VEVENT
DTSTART;TZID=Europe/Stockholm:20250504T090000
DTEND;TZID=Europe/Stockholm:20250504T120000
DTSTAMP:20260426T022850
CREATED:20250203T123447Z
LAST-MODIFIED:20250203T123447Z
UID:3904-1746349200-1746360000@soderkopingsrs.se
SUMMARY:Dressyrträning Mimmi
DESCRIPTION:
URL:https://soderkopingsrs.se/event/dressyrtraning-mimmi-6/
LOCATION:Stora delen av ridhuset
END:VEVENT
BEGIN:VEVENT
DTSTART;TZID=Europe/Stockholm:20250508T170000
DTEND;TZID=Europe/Stockholm:20250508T180000
DTSTAMP:20260426T022850
CREATED:20250331T091644Z
LAST-MODIFIED:20250331T091644Z
UID:4000-1746723600-1746727200@soderkopingsrs.se
SUMMARY:Hästis
DESCRIPTION:
URL:https://soderkopingsrs.se/event/hastis-4/
LOCATION:Stora delen av ridhuset
END:VEVENT
BEGIN:VEVENT
DTSTART;TZID=Europe/Stockholm:20250515T170000
DTEND;TZID=Europe/Stockholm:20250515T180000
DTSTAMP:20260426T022850
CREATED:20250331T091719Z
LAST-MODIFIED:20250331T091719Z
UID:4002-1747328400-1747332000@soderkopingsrs.se
SUMMARY:Hästis
DESCRIPTION:
URL:https://soderkopingsrs.se/event/hastis-5/
LOCATION:Stora delen av ridhuset
END:VEVENT
BEGIN:VEVENT
DTSTART;TZID=Europe/Stockholm:20250518T090000
DTEND;TZID=Europe/Stockholm:20250518T120000
DTSTAMP:20260426T022850
CREATED:20250203T123522Z
LAST-MODIFIED:20250203T123522Z
UID:3906-1747558800-1747569600@soderkopingsrs.se
SUMMARY:Dressyrträning Mimmi
DESCRIPTION:
URL:https://soderkopingsrs.se/event/dressyrtraning-mimmi-7/
LOCATION:Stora delen av ridhuset
END:VEVENT
BEGIN:VEVENT
DTSTART;TZID=Europe/Stockholm:20250522T170000
DTEND;TZID=Europe/Stockholm:20250522T210000
DTSTAMP:20260426T022850
CREATED:20250424T110646Z
LAST-MODIFIED:20250424T110646Z
UID:4126-1747933200-1747947600@soderkopingsrs.se
SUMMARY:Hoppträning för Ebba
DESCRIPTION:
URL:https://soderkopingsrs.se/event/hopptraning-for-ebba/
LOCATION:Hela utebanan
END:VEVENT
BEGIN:VEVENT
DTSTART;TZID=Europe/Stockholm:20250523T190000
DTEND;TZID=Europe/Stockholm:20250523T203000
DTSTAMP:20260426T022850
CREATED:20250512T101533Z
LAST-MODIFIED:20250512T101533Z
UID:4160-1748026800-1748032200@soderkopingsrs.se
SUMMARY:Disco med US
DESCRIPTION:
URL:https://soderkopingsrs.se/event/disco-med-us/
LOCATION:Hela ridhuset
END:VEVENT
BEGIN:VEVENT
DTSTART;TZID=Europe/Stockholm:20250525T080000
DTEND;TZID=Europe/Stockholm:20250525T140000
DTSTAMP:20260426T022850
CREATED:20250414T091206Z
LAST-MODIFIED:20250414T091206Z
UID:4080-1748160000-1748181600@soderkopingsrs.se
SUMMARY:Pay n Jump
DESCRIPTION:
URL:https://soderkopingsrs.se/event/pay-n-jump-24/
LOCATION:Hela anläggningen
END:VEVENT
BEGIN:VEVENT
DTSTART;TZID=Europe/Stockholm:20250601T100000
DTEND;TZID=Europe/Stockholm:20250601T140000
DTSTAMP:20260426T022850
CREATED:20250417T125207Z
LAST-MODIFIED:20250417T125207Z
UID:4101-1748772000-1748786400@soderkopingsrs.se
SUMMARY:Städdag
DESCRIPTION:
URL:https://soderkopingsrs.se/event/staddag-4/
END:VEVENT
BEGIN:VEVENT
DTSTART;TZID=Europe/Stockholm:20250601T180000
DTEND;TZID=Europe/Stockholm:20250601T190000
DTSTAMP:20260426T022850
CREATED:20250203T123706Z
LAST-MODIFIED:20250528T115417Z
UID:3910-1748800800-1748804400@soderkopingsrs.se
SUMMARY:Dressyrträning Mimmi
DESCRIPTION:
URL:https://soderkopingsrs.se/event/dressyrtraning-mimmi-9/
LOCATION:Stora delen av ridhuset
END:VEVENT
BEGIN:VEVENT
DTSTART;TZID=Europe/Stockholm:20250606T080000
DTEND;TZID=Europe/Stockholm:20250606T170000
DTSTAMP:20260426T022850
CREATED:20250414T091300Z
LAST-MODIFIED:20250414T091300Z
UID:4082-1749196800-1749229200@soderkopingsrs.se
SUMMARY:Nationaldagshoppet
DESCRIPTION:
URL:https://soderkopingsrs.se/event/nationaldagshoppet-2/
LOCATION:Hela anläggningen
END:VEVENT
BEGIN:VEVENT
DTSTART;TZID=Europe/Stockholm:20250615T090000
DTEND;TZID=Europe/Stockholm:20250615T120000
DTSTAMP:20260426T022850
CREATED:20250203T123805Z
LAST-MODIFIED:20250203T123805Z
UID:3912-1749978000-1749988800@soderkopingsrs.se
SUMMARY:Dressyrträning Mimmi
DESCRIPTION:
URL:https://soderkopingsrs.se/event/dressyrtraning-mimmi-10/
LOCATION:Stora delen av ridhuset
END:VEVENT
BEGIN:VEVENT
DTSTART;TZID=Europe/Stockholm:20250724T170000
DTEND;TZID=Europe/Stockholm:20250724T210000
DTSTAMP:20260426T022850
CREATED:20250704T091836Z
LAST-MODIFIED:20250704T091836Z
UID:4337-1753376400-1753390800@soderkopingsrs.se
SUMMARY:Hoppträning för Ebba
DESCRIPTION:
URL:https://soderkopingsrs.se/event/hopptraning-for-ebba-2/
LOCATION:Hela utebanan
END:VEVENT
BEGIN:VEVENT
DTSTART;TZID=Europe/Stockholm:20250729T170000
DTEND;TZID=Europe/Stockholm:20250729T210000
DTSTAMP:20260426T022850
CREATED:20250704T091912Z
LAST-MODIFIED:20250704T091912Z
UID:4339-1753808400-1753822800@soderkopingsrs.se
SUMMARY:Hoppträning för Ebba
DESCRIPTION:
URL:https://soderkopingsrs.se/event/hopptraning-for-ebba-3/
LOCATION:Hela utebanan
END:VEVENT
BEGIN:VEVENT
DTSTART;TZID=Europe/Stockholm:20250804T160000
DTEND;TZID=Europe/Stockholm:20250804T200000
DTSTAMP:20260426T022850
CREATED:20250417T125516Z
LAST-MODIFIED:20250417T125516Z
UID:4104-1754323200-1754337600@soderkopingsrs.se
SUMMARY:Städkväll
DESCRIPTION:
URL:https://soderkopingsrs.se/event/stadkvall/
END:VEVENT
BEGIN:VEVENT
DTSTART;TZID=Europe/Stockholm:20250804T160000
DTEND;TZID=Europe/Stockholm:20250804T210000
DTSTAMP:20260426T022850
CREATED:20250704T092912Z
LAST-MODIFIED:20250704T092912Z
UID:4341-1754323200-1754341200@soderkopingsrs.se
SUMMARY:Kanalhoppet Light
DESCRIPTION:
URL:https://soderkopingsrs.se/event/kanalhoppet-light-5/
LOCATION:Hela utebanan
END:VEVENT
BEGIN:VEVENT
DTSTART;TZID=Europe/Stockholm:20250808T080000
DTEND;TZID=Europe/Stockholm:20250810T170000
DTSTAMP:20260426T022850
CREATED:20250417T125112Z
LAST-MODIFIED:20250417T125112Z
UID:4099-1754640000-1754845200@soderkopingsrs.se
SUMMARY:Kanalhoppet
DESCRIPTION:
URL:https://soderkopingsrs.se/event/kanalhoppet-4/
LOCATION:Hela anläggningen
END:VEVENT
BEGIN:VEVENT
DTSTART;TZID=Europe/Stockholm:20250824T170000
DTEND;TZID=Europe/Stockholm:20250824T180000
DTSTAMP:20260426T022850
CREATED:20250812T121212Z
LAST-MODIFIED:20250812T121212Z
UID:4378-1756054800-1756058400@soderkopingsrs.se
SUMMARY:Dressyrträning för Mimmi
DESCRIPTION:
URL:https://soderkopingsrs.se/event/dressyrtraning-for-mimmi/
LOCATION:Stora delen av ridhuset
END:VEVENT
BEGIN:VEVENT
DTSTART;TZID=Europe/Stockholm:20250828T170000
DTEND;TZID=Europe/Stockholm:20250828T210000
DTSTAMP:20260426T022850
CREATED:20250812T120836Z
LAST-MODIFIED:20250812T120836Z
UID:4371-1756400400-1756414800@soderkopingsrs.se
SUMMARY:Hoppträning för Ebba
DESCRIPTION:
URL:https://soderkopingsrs.se/event/hopptraning-for-ebba-4/
LOCATION:Hela utebanan
END:VEVENT
BEGIN:VEVENT
DTSTART;TZID=Europe/Stockholm:20250829T183000
DTEND;TZID=Europe/Stockholm:20250829T193000
DTSTAMP:20260426T022850
CREATED:20250818T141649Z
LAST-MODIFIED:20250818T141649Z
UID:4391-1756492200-1756495800@soderkopingsrs.se
SUMMARY:Brännbollsmatch
DESCRIPTION:
URL:https://soderkopingsrs.se/event/brannbollsmatch/
LOCATION:Hela ridhuset
END:VEVENT
BEGIN:VEVENT
DTSTART;TZID=Europe/Stockholm:20250907T170000
DTEND;TZID=Europe/Stockholm:20250907T180000
DTSTAMP:20260426T022850
CREATED:20250812T121245Z
LAST-MODIFIED:20250812T121245Z
UID:4380-1757264400-1757268000@soderkopingsrs.se
SUMMARY:Dressyrträning för Mimmi
DESCRIPTION:
URL:https://soderkopingsrs.se/event/dressyrtraning-for-mimmi-2/
LOCATION:Stora delen av ridhuset
END:VEVENT
BEGIN:VEVENT
DTSTART;TZID=Europe/Stockholm:20250911T170000
DTEND;TZID=Europe/Stockholm:20250911T210000
DTSTAMP:20260426T022850
CREATED:20250812T120938Z
LAST-MODIFIED:20250812T120938Z
UID:4373-1757610000-1757624400@soderkopingsrs.se
SUMMARY:Hoppträning för Ebba
DESCRIPTION:
URL:https://soderkopingsrs.se/event/hopptraning-for-ebba-5/
LOCATION:Hela utebanan
END:VEVENT
BEGIN:VEVENT
DTSTART;TZID=Europe/Stockholm:20250914T080000
DTEND;TZID=Europe/Stockholm:20250914T170000
DTSTAMP:20260426T022850
CREATED:20250417T125707Z
LAST-MODIFIED:20250417T125707Z
UID:4106-1757836800-1757869200@soderkopingsrs.se
SUMMARY:SRS-dagen
DESCRIPTION:
URL:https://soderkopingsrs.se/event/srs-dagen-2/
END:VEVENT
BEGIN:VEVENT
DTSTART;TZID=Europe/Stockholm:20251005T170000
DTEND;TZID=Europe/Stockholm:20251005T183000
DTSTAMP:20260426T022850
CREATED:20250923T071815Z
LAST-MODIFIED:20250923T071838Z
UID:4417-1759683600-1759689000@soderkopingsrs.se
SUMMARY:Dressyrträning för Mimmi
DESCRIPTION:
URL:https://soderkopingsrs.se/event/dressyrtraning-for-mimmi-3/
LOCATION:Stora delen av ridhuset
END:VEVENT
BEGIN:VEVENT
DTSTART;TZID=Europe/Stockholm:20251018T100000
DTEND;TZID=Europe/Stockholm:20251018T120000
DTSTAMP:20260426T022850
CREATED:20251008T135209Z
LAST-MODIFIED:20251008T135209Z
UID:4446-1760781600-1760788800@soderkopingsrs.se
SUMMARY:Pay n Jump
DESCRIPTION:
URL:https://soderkopingsrs.se/event/pay-n-jump-25/
LOCATION:Hela anläggningen
END:VEVENT
BEGIN:VEVENT
DTSTART;TZID=Europe/Stockholm:20251019T170000
DTEND;TZID=Europe/Stockholm:20251019T183000
DTSTAMP:20260426T022850
CREATED:20251007T111555Z
LAST-MODIFIED:20251007T111555Z
UID:4438-1760893200-1760898600@soderkopingsrs.se
SUMMARY:Dressyrträning för Mimmi
DESCRIPTION:
URL:https://soderkopingsrs.se/event/dressyrtraning-for-mimmi-4/
LOCATION:Stora delen av ridhuset
END:VEVENT
BEGIN:VEVENT
DTSTART;TZID=Europe/Stockholm:20251024T183000
DTEND;TZID=Europe/Stockholm:20251024T200000
DTSTAMP:20260426T022850
CREATED:20251016T081249Z
LAST-MODIFIED:20251016T081249Z
UID:4479-1761330600-1761336000@soderkopingsrs.se
SUMMARY:Weekendkurs
DESCRIPTION:
URL:https://soderkopingsrs.se/event/weekendkurs/
LOCATION:Stora delen av ridhuset
END:VEVENT
BEGIN:VEVENT
DTSTART;TZID=Europe/Stockholm:20251025T153000
DTEND;TZID=Europe/Stockholm:20251025T163000
DTSTAMP:20260426T022850
CREATED:20251016T081647Z
LAST-MODIFIED:20251016T081941Z
UID:4481-1761406200-1761409800@soderkopingsrs.se
SUMMARY:Weekendkurs
DESCRIPTION:
URL:https://soderkopingsrs.se/event/weekendkurs-2/
LOCATION:Stora delen av ridhuset
END:VEVENT
BEGIN:VEVENT
DTSTART;TZID=Europe/Stockholm:20251026T090000
DTEND;TZID=Europe/Stockholm:20251026T103000
DTSTAMP:20260426T022850
CREATED:20251016T082026Z
LAST-MODIFIED:20251016T082026Z
UID:4487-1761469200-1761474600@soderkopingsrs.se
SUMMARY:Weekendkurs
DESCRIPTION:
URL:https://soderkopingsrs.se/event/weekendkurs-4/
END:VEVENT
BEGIN:VEVENT
DTSTART;TZID=Europe/Stockholm:20251102T170000
DTEND;TZID=Europe/Stockholm:20251102T183000
DTSTAMP:20260426T022850
CREATED:20251007T111641Z
LAST-MODIFIED:20251007T111641Z
UID:4440-1762102800-1762108200@soderkopingsrs.se
SUMMARY:Dressyrträning för Mimmi
DESCRIPTION:
URL:https://soderkopingsrs.se/event/dressyrtraning-for-mimmi-5/
LOCATION:Stora delen av ridhuset
END:VEVENT
BEGIN:VEVENT
DTSTART;TZID=Europe/Stockholm:20251109T180000
DTEND;TZID=Europe/Stockholm:20251109T190000
DTSTAMP:20260426T022850
CREATED:20251104T101719Z
LAST-MODIFIED:20251104T101817Z
UID:4497-1762711200-1762714800@soderkopingsrs.se
SUMMARY:Showträning
DESCRIPTION:
URL:https://soderkopingsrs.se/event/showtraning/
LOCATION:Stora delen av ridhuset
END:VEVENT
END:VCALENDAR